BEGIN:VCALENDAR
VERSION:2.0
PRODID:-//Ateneu Santfeliuenc - ECPv6.15.13//NONSGML v1.0//EN
CALSCALE:GREGORIAN
METHOD:PUBLISH
X-WR-CALNAME:Ateneu Santfeliuenc
X-ORIGINAL-URL:https://ateneusantfeliuenc.cat
X-WR-CALDESC:Esdeveniments per Ateneu Santfeliuenc
REFRESH-INTERVAL;VALUE=DURATION:PT1H
X-Robots-Tag:noindex
X-PUBLISHED-TTL:PT1H
BEGIN:VTIMEZONE
TZID:Europe/Paris
BEGIN:DAYLIGHT
TZOFFSETFROM:+0100
TZOFFSETTO:+0200
TZNAME:CEST
DTSTART:20250330T010000
END:DAYLIGHT
BEGIN:STANDARD
TZOFFSETFROM:+0200
TZOFFSETTO:+0100
TZNAME:CET
DTSTART:20251026T010000
END:STANDARD
BEGIN:DAYLIGHT
TZOFFSETFROM:+0100
TZOFFSETTO:+0200
TZNAME:CEST
DTSTART:20260329T010000
END:DAYLIGHT
BEGIN:STANDARD
TZOFFSETFROM:+0200
TZOFFSETTO:+0100
TZNAME:CET
DTSTART:20261025T010000
END:STANDARD
BEGIN:DAYLIGHT
TZOFFSETFROM:+0100
TZOFFSETTO:+0200
TZNAME:CEST
DTSTART:20270328T010000
END:DAYLIGHT
BEGIN:STANDARD
TZOFFSETFROM:+0200
TZOFFSETTO:+0100
TZNAME:CET
DTSTART:20271031T010000
END:STANDARD
END:VTIMEZONE
BEGIN:VEVENT
DTSTART;TZID=Europe/Paris:20260514T190000
DTEND;TZID=Europe/Paris:20260522T210000
DTSTAMP:20260425T231318
CREATED:20260423T152637Z
LAST-MODIFIED:20260423T152637Z
UID:23232-1778785200-1779483600@ateneusantfeliuenc.cat
SUMMARY:Exposició: 50 anys fent camí
DESCRIPTION:Exposició de l’Esplai Sant Llorenç. Horari de visites\, de dilluns a divendres\, de 17 a 21 h. (Excepte durant les hores dels actes a l’Aula que coincideixin en dates. Consulteu l’agenda)\n\nInauguració el dijous 14 a les 19 h amb la taula rodona:\nLa mirada al lleure educatiu: de l’origen a les noves realitats
URL:https://ateneusantfeliuenc.cat/agenda/exposicio-50-anys-fent-cami/
LOCATION:Aula de Cultura – Ateneu Santfeliuenc\, Vidal i Ribas\, 25\, Sant Feliu de Llobregat\, Barcelona\, 08980\, Espanya
ATTACH;FMTTYPE=image/jpeg:https://ateneusantfeliuenc.cat/wp-content/uploads/2026/04/vaive-3.jpg
END:VEVENT
END:VCALENDAR