BEGIN:VCALENDAR
VERSION:2.0
PRODID:-//Ateneu Santfeliuenc - ECPv6.15.13//NONSGML v1.0//EN
CALSCALE:GREGORIAN
METHOD:PUBLISH
X-WR-CALNAME:Ateneu Santfeliuenc
X-ORIGINAL-URL:https://ateneusantfeliuenc.cat
X-WR-CALDESC:Esdeveniments per Ateneu Santfeliuenc
REFRESH-INTERVAL;VALUE=DURATION:PT1H
X-Robots-Tag:noindex
X-PUBLISHED-TTL:PT1H
BEGIN:VTIMEZONE
TZID:Europe/Paris
BEGIN:DAYLIGHT
TZOFFSETFROM:+0100
TZOFFSETTO:+0200
TZNAME:CEST
DTSTART:20220327T010000
END:DAYLIGHT
BEGIN:STANDARD
TZOFFSETFROM:+0200
TZOFFSETTO:+0100
TZNAME:CET
DTSTART:20221030T010000
END:STANDARD
BEGIN:DAYLIGHT
TZOFFSETFROM:+0100
TZOFFSETTO:+0200
TZNAME:CEST
DTSTART:20230326T010000
END:DAYLIGHT
BEGIN:STANDARD
TZOFFSETFROM:+0200
TZOFFSETTO:+0100
TZNAME:CET
DTSTART:20231029T010000
END:STANDARD
BEGIN:DAYLIGHT
TZOFFSETFROM:+0100
TZOFFSETTO:+0200
TZNAME:CEST
DTSTART:20240331T010000
END:DAYLIGHT
BEGIN:STANDARD
TZOFFSETFROM:+0200
TZOFFSETTO:+0100
TZNAME:CET
DTSTART:20241027T010000
END:STANDARD
END:VTIMEZONE
BEGIN:VEVENT
DTSTART;TZID=Europe/Paris:20230421T203000
DTEND;TZID=Europe/Paris:20230421T220000
DTSTAMP:20260419T234245
CREATED:20230313T170246Z
LAST-MODIFIED:20230313T170246Z
UID:16373-1682109000-1682114400@ateneusantfeliuenc.cat
SUMMARY:Bandera & Motis feat. Fumero · Concert ContraBaix
DESCRIPTION:COMPRAR ENTRADES
URL:https://ateneusantfeliuenc.cat/agenda/bandera-motis-feat-fumero-%c2%b7-concert-contrabaix/
LOCATION:Sala d’Actes de l’Ateneu\, Carrer de l'Ateneu\, 25\, 1r\, Sant Feliu de Llobregat\, Barcelona\, 08980\, Spain
CATEGORIES:Contrabaix
ATTACH;FMTTYPE=image/jpeg:https://ateneusantfeliuenc.cat/wp-content/uploads/2023/03/bandera-motis_agenda.jpg
END:VEVENT
END:VCALENDAR