BEGIN:VCALENDAR
VERSION:2.0
PRODID:-//Ateneu Santfeliuenc - ECPv6.15.13//NONSGML v1.0//EN
CALSCALE:GREGORIAN
METHOD:PUBLISH
X-WR-CALNAME:Ateneu Santfeliuenc
X-ORIGINAL-URL:https://ateneusantfeliuenc.cat
X-WR-CALDESC:Esdeveniments per Ateneu Santfeliuenc
REFRESH-INTERVAL;VALUE=DURATION:PT1H
X-Robots-Tag:noindex
X-PUBLISHED-TTL:PT1H
BEGIN:VTIMEZONE
TZID:Europe/Paris
BEGIN:DAYLIGHT
TZOFFSETFROM:+0100
TZOFFSETTO:+0200
TZNAME:CEST
DTSTART:20220327T010000
END:DAYLIGHT
BEGIN:STANDARD
TZOFFSETFROM:+0200
TZOFFSETTO:+0100
TZNAME:CET
DTSTART:20221030T010000
END:STANDARD
BEGIN:DAYLIGHT
TZOFFSETFROM:+0100
TZOFFSETTO:+0200
TZNAME:CEST
DTSTART:20230326T010000
END:DAYLIGHT
BEGIN:STANDARD
TZOFFSETFROM:+0200
TZOFFSETTO:+0100
TZNAME:CET
DTSTART:20231029T010000
END:STANDARD
BEGIN:DAYLIGHT
TZOFFSETFROM:+0100
TZOFFSETTO:+0200
TZNAME:CEST
DTSTART:20240331T010000
END:DAYLIGHT
BEGIN:STANDARD
TZOFFSETFROM:+0200
TZOFFSETTO:+0100
TZNAME:CET
DTSTART:20241027T010000
END:STANDARD
END:VTIMEZONE
BEGIN:VEVENT
DTSTART;TZID=Europe/Paris:20230317T203000
DTEND;TZID=Europe/Paris:20230317T230000
DTSTAMP:20260420T013113
CREATED:20230227T095229Z
LAST-MODIFIED:20230227T095229Z
UID:16296-1679085000-1679094000@ateneusantfeliuenc.cat
SUMMARY:Javier Malosetti & Mariano Diaz Band · Concert ContraBaix
DESCRIPTION:Divendres 17 de març · 20:30 h · Sala d’Actes de l’Ateneu \nJavier Malosetti & Mariano Diaz Band · Concert ContraBaix \nPrèvia amb Esteban Barbaria i Oriol Serna · Setmana de la Poesia de Sant Feliu de Llobregat \nEntrades a la venda al web i la secretaria de l’Ateneu. Preu de les entrades: 15 € taquilla\, 14 € anticipada\, 12 € titulars del Carnet Jove o Blau\, 10 € socis i sòcies de l’Ateneu Santfeliuenc. \nCOMPRAR ENTRADES
URL:https://ateneusantfeliuenc.cat/agenda/javier-malosetti-mariano-diaz-band-%c2%b7-concert-contrabaix/
LOCATION:Sala d’Actes de l’Ateneu\, Carrer de l'Ateneu\, 25\, 1r\, Sant Feliu de Llobregat\, Barcelona\, 08980\, Spain
CATEGORIES:Contrabaix
ATTACH;FMTTYPE=image/jpeg:https://ateneusantfeliuenc.cat/wp-content/uploads/2023/02/malosetti.jpg
END:VEVENT
END:VCALENDAR