BEGIN:VCALENDAR
VERSION:2.0
PRODID:-//Ateneu Santfeliuenc - ECPv6.15.13//NONSGML v1.0//EN
CALSCALE:GREGORIAN
METHOD:PUBLISH
X-WR-CALNAME:Ateneu Santfeliuenc
X-ORIGINAL-URL:https://ateneusantfeliuenc.cat
X-WR-CALDESC:Esdeveniments per Ateneu Santfeliuenc
REFRESH-INTERVAL;VALUE=DURATION:PT1H
X-Robots-Tag:noindex
X-PUBLISHED-TTL:PT1H
BEGIN:VTIMEZONE
TZID:Europe/Paris
BEGIN:DAYLIGHT
TZOFFSETFROM:+0100
TZOFFSETTO:+0200
TZNAME:CEST
DTSTART:20200329T010000
END:DAYLIGHT
BEGIN:STANDARD
TZOFFSETFROM:+0200
TZOFFSETTO:+0100
TZNAME:CET
DTSTART:20201025T010000
END:STANDARD
BEGIN:DAYLIGHT
TZOFFSETFROM:+0100
TZOFFSETTO:+0200
TZNAME:CEST
DTSTART:20210328T010000
END:DAYLIGHT
BEGIN:STANDARD
TZOFFSETFROM:+0200
TZOFFSETTO:+0100
TZNAME:CET
DTSTART:20211031T010000
END:STANDARD
BEGIN:DAYLIGHT
TZOFFSETFROM:+0100
TZOFFSETTO:+0200
TZNAME:CEST
DTSTART:20220327T010000
END:DAYLIGHT
BEGIN:STANDARD
TZOFFSETFROM:+0200
TZOFFSETTO:+0100
TZNAME:CET
DTSTART:20221030T010000
END:STANDARD
END:VTIMEZONE
BEGIN:VEVENT
DTSTART;TZID=Europe/Paris:20211112T200000
DTEND;TZID=Europe/Paris:20211112T213000
DTSTAMP:20260421T043704
CREATED:20211027T160734Z
LAST-MODIFIED:20211130T153358Z
UID:11292-1636747200-1636752600@ateneusantfeliuenc.cat
SUMMARY:A Night of Bond with Janine Johnson · Cicle ContraBaix
DESCRIPTION:Janine Johnson\, veu.\nAlejandro Di Costanzo\, piano.\nPaco Weht\, contrabaix.\nNil Mujal\, sax.\nMaria Rodrígues Reina\, cello. \nJanine Johnson – A Night of Bond // Concert especial 140è aniversari \nEl seu nom és Bond\, James Bond – icònic\, elegant i emocionant durant més de 50 anys. Soul Diva Janine Johnson ha tornat amb el seu tribut a una de les llegendes més emocionants de Gran Bretanya – pel·lícules\, melodies temàtiques\, sàtira i còctels. \nCOMPRAR ENTRADES \nPreu de l’entrada:\n10 € socis i sòcies de l’Ateneu Santfeliuenc i Amics de ContraBaix\n11 € titulars del Carnet Jove\n12 € anticipada\n15 € taquilla
URL:https://ateneusantfeliuenc.cat/agenda/a-night-of-bond-with-janine-johnson-%c2%b7-cicle-contrabaix/
LOCATION:Sala Iberia
CATEGORIES:Contrabaix,Portada
ATTACH;FMTTYPE=image/jpeg:https://ateneusantfeliuenc.cat/wp-content/uploads/2021/10/janine-event.jpg
END:VEVENT
END:VCALENDAR