BEGIN:VCALENDAR
VERSION:2.0
PRODID:-//Ateneu Santfeliuenc - ECPv6.15.13//NONSGML v1.0//EN
CALSCALE:GREGORIAN
METHOD:PUBLISH
X-WR-CALNAME:Ateneu Santfeliuenc
X-ORIGINAL-URL:https://ateneusantfeliuenc.cat
X-WR-CALDESC:Esdeveniments per Ateneu Santfeliuenc
REFRESH-INTERVAL;VALUE=DURATION:PT1H
X-Robots-Tag:noindex
X-PUBLISHED-TTL:PT1H
BEGIN:VTIMEZONE
TZID:Europe/Paris
BEGIN:DAYLIGHT
TZOFFSETFROM:+0100
TZOFFSETTO:+0200
TZNAME:CEST
DTSTART:20200329T010000
END:DAYLIGHT
BEGIN:STANDARD
TZOFFSETFROM:+0200
TZOFFSETTO:+0100
TZNAME:CET
DTSTART:20201025T010000
END:STANDARD
BEGIN:DAYLIGHT
TZOFFSETFROM:+0100
TZOFFSETTO:+0200
TZNAME:CEST
DTSTART:20210328T010000
END:DAYLIGHT
BEGIN:STANDARD
TZOFFSETFROM:+0200
TZOFFSETTO:+0100
TZNAME:CET
DTSTART:20211031T010000
END:STANDARD
BEGIN:DAYLIGHT
TZOFFSETFROM:+0100
TZOFFSETTO:+0200
TZNAME:CEST
DTSTART:20220327T010000
END:DAYLIGHT
BEGIN:STANDARD
TZOFFSETFROM:+0200
TZOFFSETTO:+0100
TZNAME:CET
DTSTART:20221030T010000
END:STANDARD
END:VTIMEZONE
BEGIN:VEVENT
DTSTART;TZID=Europe/Paris:20211105T203000
DTEND;TZID=Europe/Paris:20211105T230000
DTSTAMP:20260421T043629
CREATED:20211027T155119Z
LAST-MODIFIED:20211130T153455Z
UID:11283-1636144200-1636153200@ateneusantfeliuenc.cat
SUMMARY:Pere Costa i Jordi Sàbat · Concert ContraBaix
DESCRIPTION:Pere Costa i Jordi Sàbat – El so de la paraula: de Montllor a Papasseit \nPere Costa\, cant i rapsode.\nJordi Sàbat\, guitarra. \nEl present concert-recital ret homenatge a la unió de la paraula i la música i ho fa rememorant una producció artística plasmada en un disc l’any 1976 en la qual Ovidi Montllor donà vida a la poesia d’en Joan Salvat-Papasseit. Acompanyat de la música d’en Toti Soler\, Carlos Boldori\, Víctor Amman i Martí Llauradó\, Ovidi ens redescobria aquest gran poeta barceloní\, mort prematurament a l’edat de trenta anys l’agost del 1924\, cedint-li la veu perquè l’expressivitat de la seva poesia\, el seu positivisme i la seva enèrgica lluita per la vida ens arribi de la forma més directa i sincera possible.\nConnectant amb aquest camí iniciat ja fa quasi mig segle\, el cantant i rapsode Pere Costa i el guitarrista Jordi Sàbat\, reinterpreten gran part d’aquest disc aportant una nova perspectiva en què de nou es dóna vida\, ja no només a la poesia de Papasseit\, sinó també a la mirada de Montllor. El programa el completen algunes altres poesies del poeta barceloní musicades pel Jordi Sàbat. \nCOMPRAR ENTRADES\nPreu de l’entrada:\n8 € socis i sòcies de la Societat El Casino\, l’Ateneu Santfeliuenc i Amics de ContraBaix\n9 € anticipada\n10 € taquilla
URL:https://ateneusantfeliuenc.cat/agenda/pere-costa-i-jordi-sabat-%c2%b7-concert-contrabaix/
LOCATION:Societat El Casino de Sant Andreu de la Barca\, Carrer de Catalunya\, 2.\, Sant Andreu de la Barca\, Barcelona\, Espanya
CATEGORIES:Contrabaix,Portada
ATTACH;FMTTYPE=image/jpeg:https://ateneusantfeliuenc.cat/wp-content/uploads/2021/10/sabat-event.jpg
END:VEVENT
END:VCALENDAR